<?xml version="1.0" encoding="ISO-8859-1"?>
<metadata>
	<idinfo>
		<citation>
			<citeinfo>
				<origin>UNIVERSITY OF FLORIDA GEOPLAN CENTER</origin>
				<pubdate>1995</pubdate>
				<title>SHADED RELIEF SURFACE</title>
				<edition>20010000</edition>
				<geoform>IMAGE</geoform>
				<onlink>http://www.fgdl.org</onlink>
				<pubinfo><publish>UNIVERSITY OF FLORIDA GEOPLAN CENTER</publish></pubinfo></citeinfo>
		</citation>
		<descript>
			<abstract>
This dataset contains a Shaded Relief Surface. These integer values enable

us to display a continuous surface of elevation, as opposed to topography

which is broken into intervals. This Hillshade was created from a DEM at 30

meter cell size, and where this was not available a USGS DEM at 90 meter

cell size was used.

</abstract>
			<purpose>
us to display a continuous surface of elevation, as opposed to topography

which is broken into intervals. This Hillshade was created from a DEM at 30

meter cell size, and where this was not available a USGS DEM at 90 meter

cell size was used.
The cell values for this grid represent illumination value from 0 - 255. The

Shade Relief grids were created from the a 30 meter grid when available and

the USGS DEM where 30 meter data is not available, for example Northwest

Florida Panhandle. The SHADRL grids created from USGS DEM's were converted

from Z values in meters to Z values of feet by multiplying Z * 3.281.
Shaded Relief Surfaces are mainly used as Background in mapping and

Displaying Data. It is usually displayed as an Image instead of a Grid. When

wanting to perform analysis it is recommended that one use a Digital

Elevation Model.</purpose>
		</descript>
		<timeperd>
			<timeinfo>
				<sngdate>
					<caldate>1995</caldate>
				</sngdate>
			</timeinfo>
			<current>ground condition</current>
		</timeperd>
		<status>
			<progress>Complete</progress>
			<update>Irregular</update>
		</status>
		<spdom>
			<bounding>
				<westbc>-87.429040</westbc>
				<eastbc>-79.872251</eastbc>
				<northbc>30.983191</northbc>
				<southbc>24.492815</southbc>
			</bounding>
		</spdom>
		<keywords>
			<place>
				<placekt>NONE</placekt>
				<placekey>Florida</placekey>
				<placekey>Southeast United States</placekey>
				<placekey>Southeast U.S</placekey>
			</place>
			<temporal>
				<tempkt>NONE</tempkt>
				<tempkey>1990s</tempkey>
			</temporal>
			<theme><themekt>ISO 19115 Topic Category</themekt><themekey>imageryBaseMapsEarthCover</themekey></theme></keywords>
		<accconst>NONE</accconst>
		<useconst>
THE DATA INCLUDED IN THIS APPLICATION ARE BASED ON INTERPRETATION OF AVAILABLE INFORMATION AND SHOULD NOT BE CONSTRUED AS LEGALLY BINDING.
Scale is an important factor in data usage. Certain scale data sets are not suitable for some projects, analysis, or modeling purposes. Please be sure you are using the best available data.
1:24000 scale data sets are recommended for projects that are at the county level. 1:24000 data should NOT be used for high accuracy base mapping such as property parcel boundaries.
1:100000 scale data sets are recommended for projects that are at the multi-county or regional level.  1:250000 scale data sets are recommended for projects that are at the regional or state level or larger.

</useconst>
		<native>For more information, visit: http://www.fgdl.org</native>
		<crossref>
			<citeinfo>
				<origin>UNIVERSITY OF FLORIDA GEOPLAN CENTER</origin>
				<pubdate>1995</pubdate>
				<title>SHADRL</title>
				<geoform>Map</geoform>
			</citeinfo>
		</crossref>
	</idinfo>
	<dataqual>
		<attracc>
			<attraccr>
The cell values for this grid represent illumination value from 0 - 255. The

Shade Relief grids were created from the a 30 meter grid when available and

the USGS DEM where 30 meter data is not available, for example Northwest

Florida Panhandle. The SHDRL grids created from USGS DEM's were converted

from Z values in meters to Z values of feet by multiplying Z * 3.281.
Shaded Relief Surfaces are mainly used as Background in mapping and

Displaying Data. It is usually displayed as an Image instead of a Grid. When

wanting to perform analysis it is recommended that one use a Digital

Elevation Model.

</attraccr>
		</attracc>
		<logic>Certain node/geometry and topology (GT)-polygon/chain relationships are collected or generated to satisfy topological requirements. Some of these requirements include: chains must begin and end at nodes, chains must connect to each other at nodes, chains do not extend through nodes, left and right GT-polygons are defined for each chain element and are consistent throughout the transfer, and the chains representing the limits of the file (neatline) are free of gaps. The neatline is generated by connecting the four corners of the digital file, as established during initialization of the digital file.  All data outside the enclosed region are ignored and all data crossing these geographically straight lines are clipped at the neatline. (Exception: During the QA/QC process all data is examined and if errors are found and corrections are possible, then data is corrected accordingly.  This process is documented in the Process_Step.)  Data within a specified tolerance of the neatline are snapped to the neatline. Neatline straightening aligns the digitized edges of the digital data with the generated neatline, that is, with the longitude/latitude lines in geographic coordinates.  All internal polygons are tested for closure.  Certain attributes and/or entities, e.g. closure line, convey data quality information.  When information to be encoded in the subfield is known to be not applicable (undefined, not relevant), then the subfield is valued by a string of "9s"; and when the information to be encoded is relevant but unknown (or missing), then the subfield is valued by a string of "9s."</logic>
		<complete>Certain node/geometry and topology (GT)-polygon/chain relationships are collected or generated to satisfy topological requirements. Some of these requirements include: chains must begin and end at nodes, chains must connect to each other at nodes, chains do not extend through nodes, left and right GT-polygons are defined for each chain element and are consistent throughout the transfer, and the chains representing the limits of the file (neatline) are free of gaps. The neatline is generated by connecting the four corners of the digital file, as established during initialization of the digital file.  All data outside the enclosed region are ignored and all data crossing these geographically straight lines are clipped at the neatline. (Exception: During the QA/QC process all data is examined and if errors are found and corrections are possible, then data is corrected accordingly.  This process is documented in the Process_Step.)  Data within a specified tolerance of the neatline are snapped to the neatline. Neatline straightening aligns the digitized edges of the digital data with the generated neatline, that is, with the longitude/latitude lines in geographic coordinates.  All internal polygons are tested for closure.  Certain attributes and/or entities, e.g. closure line, convey data quality information.  When information to be encoded in the subfield is known to be not applicable (undefined, not relevant), then the subfield is valued by a string of "9s"; and when the information to be encoded is relevant but unknown (or missing), then the subfield is valued by a string of "9s."</complete>
		<lineage>
			<srcinfo>
				<srccite>
					<citeinfo>
						<origin>UNIVERSITY OF FLORIDA GEOPLAN CENTER</origin>
						<pubdate>1995</pubdate>
						<title>SHADRL</title>
						<geoform>Map</geoform>
					</citeinfo>
				</srccite>
				<srcscale>250000</srcscale>
				<typesrc>Map</typesrc>
				<srctime>
					<timeinfo>
						<sngdate>
							<caldate>1995</caldate>
						</sngdate>
					</timeinfo>
					<srccurr>ground condition</srccurr>
				</srctime>
				<srccitea>SHADRL</srccitea>
				<srccontr>
The cell values for this grid represent illumination value from 0 - 255. The

Shade Relief grids were created from the a 30 meter grid when available and

the USGS DEM where 30 meter data is not available, for example Northwest

Florida Panhandle. The SHDRL grids created from USGS DEM's were converted

from Z values in meters to Z values of feet by multiplying Z * 3.281.
Shaded Relief Surfaces are mainly used as Background in mapping and

Displaying Data. It is usually displayed as an Image instead of a Grid. When

wanting to perform analysis it is recommended that one use a Digital

Elevation Model.

</srccontr>
			</srcinfo>
			<procstep>
				<procdesc>
The process step describes, in general, the process used in the production of data sets.  The originating agencies created the original spatial coverage.  GeoPlan, during the QA/QC process included the following aspects:

(1) Reprojected data to FGDL Albers

(2) Set Precision to DOUBLE

(3) Set Tolerances to FGDL Standards.

</procdesc>
				<procdate>20000000</procdate>
			</procstep>
		</lineage>
	</dataqual>
	<spdoinfo>
		<direct>Raster</direct>
		<rastinfo>
			<rasttype>Grid Cell</rasttype>
			<rowcount>8053</rowcount>
			<colcount>8238</colcount>
			<vrtcount>1</vrtcount>
		</rastinfo>
	</spdoinfo>
	<spref>
		<horizsys>
			<planar>
				<mapproj>
					<mapprojn>Albers Conical Equal Area</mapprojn>
					<albers>
						<stdparll>24.000000</stdparll>
						<stdparll>31.500000</stdparll>
						<longcm>-84.000000</longcm>
						<latprjo>24.000000</latprjo>
						<feast>400000.00000</feast>
						<fnorth>0.00000</fnorth>
					</albers>
				</mapproj>
				<planci>
					<plance>coordinate pair</plance>
					<coordrep>
						<absres>90.0000</absres>
						<ordres>90.0000</ordres>
					</coordrep>
					<plandu>METERS</plandu>
				</planci>
			</planar>
			<geodetic>
				<horizdn>D_North_American_1983_HARN</horizdn>
				<ellips>GRS1980</ellips>
				<semiaxis>6378137.000000</semiaxis>
				<denflat>298.257222</denflat>
			</geodetic>
		</horizsys>
	</spref>
	<eainfo>
		<detailed>
			<enttyp>
				<enttypl>SHADRL.DBF</enttypl>
				<enttypd>Database File</enttypd>
				<enttypds>None</enttypds>
			</enttyp>
			<attr>
				<attrlabl>VALUE</attrlabl>
				<attrdef>Floating point values that represent elevation relative to sea level.</attrdef>
				<attrdefs>Unknown</attrdefs>
				<attrdomv>
					<udom>Unknown</udom>
				</attrdomv>
			</attr>
			<attr>
				<attrlabl>COUNT</attrlabl>
				<attrdef>Count of occurances</attrdef>
				<attrdefs>Unknown</attrdefs>
				<attrdomv>
					<udom>Unknown</udom>
				</attrdomv>
			</attr>
		</detailed>
	</eainfo>
	<distinfo>
		<distrib>
			<cntinfo>
				<cntperp>
					<cntper>Operator</cntper>
					<cntorg>FLORIDA GEOGRAPHIC DATA LIBRARY</cntorg>
				</cntperp>
				<cntaddr>
					<addrtype>Physical</addrtype>
					<address>
431 Architecture Building

PO Box 115706

</address>
					<city>Gainesville</city>
					<state>Florida</state>
					<postal>32611-5706</postal>
				</cntaddr>
				<cntvoice>(352) 3920997, Operator</cntvoice>
				<cntemail>http://www.fgdl.org/fgdldocs/document/techsupp.htm</cntemail>
				<hours>24 Hours / Day</hours>
				<cntinst>
Please visit the web site, http://www.fgdl.org, for all

questions or concerns.

</cntinst>
			</cntinfo>
		</distrib>
		<distliab>Florida Geographic Data Library is a product of the University of Florida GeoPlan Center with support from the Florida Department of Transportation and the Florida Department of Environmental Protection. THE FGDL DATA AS PROVIDED BY CONTRIBUTING ORGANIZATIONS AND ANY PROGRAMMING SOFTWARE CREATED BY THE UNIVERSITY OF FLORIDA GEOPLAN CENTER (COLLECTIVELY THE "MATERIALS") ARE COPYRIGHTED BY THE UNIVERSITY OF FLORIDA GEOPLAN CENTER FOR THE FGDL CONTRIBUTING AGENCIES AND ORGANIZATIONS (THE "DATA PROVIDERS"). DO NOT REPRODUCE, REDISTRIBUTE OR RESELL THE MATERIALS, OR PROVIDE THE MATERIALS FOR FREE TO CUSTOMERS OR CLIENTS, OR PLACE THE MATERIALS FOR DOWNLOAD ON A WEBSITE. ADDITIONALLY, WHEN USING FGDL DATA OR SOFTWARE IN PROJECTS, MAPS, ETC.; YOU AGREE TO ACKNOWLEDGE THE FGDL AS A DATA SOURCE. THE MATERIALS ARE PROVIDED "AS IS". THE UNIVERSITY OF FLORIDA GEOPLAN CENTER MAKES NO REPRESENTATIONS OR WARRANTIES ABOUT THE QUALITY OR SUITABILITY OF THE MATERIALS, EITHER EXPRESSLY OR IMPLIED, INCLUDING BUT NOT LIMITED TO ANY IMPLIED WARRANTIES OF MERCHANTABILITY, FITNESS FOR A PARTICULAR PURPOSE, OR NON-INFRINGEMENT. THE UNIVERSITY OF FLORIDA GEOPLAN CENTER MAKES NO WARRANTIES, GUARANTIES OR REPRESENTATIONS AS TO THE TRUTH, ACCURACY OR COMPLETENESS OF THE DATA PROVIDED BY THE FGDL CONTRIBUTING ORGANIZATIONS. THE UNIVERSITY OF FLORIDA GEOPLAN CENTER SHALL NOT BE LIABLE FOR ANY DAMAGES SUFFERED AS A RESULT OF USING, MODIFYING, CONTRIBUTING OR DISTRIBUTING THE MATERIALS.</distliab>
		<resdesc>Downloadable Data</resdesc></distinfo>
	<metainfo>
		<metd>2001</metd>
		<metc>
			<cntinfo>
				<cntperp>
					<cntper>Operator</cntper>
				</cntperp>
				<cntaddr>
					<addrtype>Physical</addrtype>
					<address>
431 Architecture Building

PO Box 115706

</address>
					<city>Gainesville</city>
					<state>Florida</state>
					<postal>32611-5706</postal>
				</cntaddr>
				<cntvoice>(352) 3920997, Operator</cntvoice>
			</cntinfo>
		</metc>
		<metstdn>FGDC Content Standards for Digital Geospatial Metadata</metstdn>
		<metstdv>FGDC-STD-001-1998</metstdv>
	</metainfo>
	<Esri><ModDate>20050923</ModDate><ModTime>16305300</ModTime><MetaID>{0D708D7A-3281-4D83-BAB4-C9D2EFC0FF72}</MetaID><CreaDate>20050923</CreaDate><CreaTime>16583100</CreaTime><SyncOnce>TRUE</SyncOnce><PublishedDocID>{3762A436-2273-4AB4-B510-4B9B0DC8E80C}</PublishedDocID><PublishStatus>Published</PublishStatus></Esri><mdDateSt Sync="TRUE">20050923</mdDateSt></metadata>
