<?xml version="1.0" encoding="ISO-8859-1"?>
<metadata>
	<idinfo>
		<citation>
			<citeinfo>
				<origin>U.S. Environmental Protection Agency Ecosystems Research Division (EPA ERD)</origin>
				<pubdate>19961017</pubdate>
				<title>USGS 1:100,000 DRG (DIGITAL RASTER GRAPHICS)</title>
				<edition>20010000</edition>
				<geoform>MrSID Image</geoform>
				<onlink>http://www.labins.org/drg.htm</onlink>
				<ftname Sync="TRUE">drg100.sid</ftname></citeinfo>
		</citation>
		<descript>
			<abstract>The Digital Raster Graphic (DRG) is a raster image of a scanned USGS topographic map including the collar information.  These images are scanned USGS 1:100,000, 30x60-minute (paper) topographic quadrangles created by the USGS that have been georeferenced using UTM coordinates then reprojected to an Albers projection. All 1:100,000 quadrangles for Florida were merged into one statewide image.</abstract>
			<purpose>DRG images are intended for use as an image backdrop. The scale of these images is considered no better than 1:100,000 and therefore these images should not be used for projects requiring a high level of accuracy.</purpose>
			<langdata Sync="TRUE">en</langdata></descript>
		<timeperd>
			<timeinfo>
				<rngdates>
					<begdate>19820000</begdate>
					<enddate>19970000</enddate>
				</rngdates>
			</timeinfo>
			<current>publication date</current>
		</timeperd>
		<status>
			<progress>Complete</progress>
			<update>As needed</update>
		</status>
		<spdom>
			<bounding>
				<westbc>-87.429040</westbc>
				<eastbc>-79.872251</eastbc>
				<northbc>30.983191</northbc>
				<southbc>24.492815</southbc>
			</bounding>
			<lboundng><leftbc Sync="TRUE">14147.000000</leftbc><rightbc Sync="TRUE">795857.000000</rightbc><bottombc Sync="TRUE">54744.000000</bottombc><topbc Sync="TRUE">783784.000000</topbc></lboundng></spdom>
		<keywords>
			<theme>
				<themekt>NONE</themekt>
				<themekey>digital raster graph</themekey>
				<themekey>DRG</themekey>
				<themekey>topographic map</themekey>
			</theme>
			<place>
				<placekt>NONE</placekt>
				<placekey>Florida</placekey>
				<placekey>Southeast United States</placekey>
				<placekey>Southeast U.S.</placekey>
			</place>
			<temporal>
				<tempkt>NONE</tempkt>
				<tempkey>1990s</tempkey>
			</temporal>
		</keywords>
		<accconst>NONE</accconst>
		<useconst>NONE</useconst>
		<native>Data was downloaded from: http://www.labins.org/drg.htm</native>
		<crossref>
			<citeinfo>
				<origin>U.S. Environmental Protection Agency Ecosystems Research Division (EPA ERD)</origin>
				<pubdate>19870000</pubdate>
				<title>DRG 100</title>
				<geoform>Map</geoform>
			</citeinfo>
		</crossref>
		<ptcontac><cntinfo><cntemail>Web site:
http://www.fgdl.org</cntemail><cntemail>Technical Support:
http://www.fgdl.org/fgdlfeed.html</cntemail><cntemail>For FGDL Software:
http://www.fgdl.org/software.html</cntemail><cntemail>FGDL Frequently Asked Questions:
http://www.fgdl.org/fgdlfaq.html</cntemail><cntemail>Mailing list for FGDL:
http://www.fgdl.org/fgdl-l.html</cntemail><cntaddr><addrtype>mailing address</addrtype><address>431 Architecture PO Box 115706</address><city>Gainesville</city><state>Florida</state><postal>32611-5706</postal><cntemail>For FGDL Software: http://www.fgdl.org/software.html</cntemail></cntaddr><cntorgp><cntorg>Florida Geographic Data Library (FGDL)</cntorg><cntemail>Web site: http://www.fgdl.org</cntemail></cntorgp></cntinfo></ptcontac><natvform Sync="TRUE">Raster Dataset</natvform></idinfo>
	<dataqual>
		<attracc>
			<attraccr>Relied on the integrity of the attribute information within the original data layer.</attraccr>
			<qattracc><attracce>Scale is an important factor in data usage.  Certain scale datasets are not suitable for some project, analysis, or modelling purposes.  Please be sure you are using the best available data.

1:24000 scale datasets are recommended for projects that are at the county level.  1:24000 data should NOT be used for high accuracy base mapping such as property parcel boundaries.

1:100000 scale datasets are recommended for projects that are at the multi-county or regional level.  1:125000 scale datasets are recommended for projects that are at the regional or state level or larger.

Vector datasets with no defined scale or accuracy should be considered suspect.  Make sure you are familiar with your data before using it for projects or analysis.  Every effort has been made to supply the user with data documentation.  For additional information, see the References section and the Data Source Contact section of this documentation.  For more information regarding scale and accuracy, see our webpage at:  http://geoplan.ufl.edu/education.html.  These data are based on interpretation of available information and should not be construed as legally binding.</attracce></qattracc></attracc>
		<logic>Relied on the integrity of the attribute information within the original data layer.</logic>
		<complete>Relied on the integrity of the attribute information within the original data layer.</complete>
		<lineage>
			<srcinfo>
				<srccite>
					<citeinfo>
						<origin>U.S. Environmental Protection Agency Ecosystems Research Division (EPA ERD)</origin>
						<pubdate>19870000</pubdate>
						<title>Unavailable</title>
						<geoform>Map</geoform>
					</citeinfo>
				</srccite>
				<srcscale>100000</srcscale>
				<typesrc>MAP</typesrc>
				<srctime>
					<timeinfo>
						<rngdates>
							<begdate>1982</begdate>
							<enddate>1996</enddate>
						</rngdates>
					</timeinfo>
					<srccurr>ground condition</srccurr>
				</srctime>
				<srccitea>EPA ERD</srccitea>
				<srccontr>Spatial and Attribute Information</srccontr>
				<srccurr>Publication date</srccurr></srcinfo>
			<procstep>
				<procdesc>
The process step describes, in general, the process used in the production of data sets.  The originating agencies created the original coverage.  GeoPlan, during the QA/QC process included the following aspects:
(1) Scanning was done at 250 dpi
(2) All 1:100,000 quadrangles for Florida were merged into one statewide image.
</procdesc>
				<procdate>2002</procdate>
			</procstep>
		</lineage>
	</dataqual>
	<spdoinfo>
		<direct>Raster</direct>
		<rastinfo>
			<rasttype>Pixel</rasttype>
			<rowcount>72904</rowcount>
			<colcount>78171</colcount>
			<vrtcount>1</vrtcount>
			<rastxsz Sync="TRUE">10.000000</rastxsz><rastysz Sync="TRUE">10.000000</rastysz><rastbpp Sync="TRUE">8</rastbpp><rastorig Sync="TRUE">Upper Left</rastorig><rastcmap Sync="TRUE">FALSE</rastcmap><rastcomp Sync="TRUE">Wavelet</rastcomp><rastband Sync="TRUE">3</rastband><rastdtyp Sync="TRUE">pixel codes</rastdtyp><rastplyr Sync="TRUE">TRUE</rastplyr><rastifor Sync="TRUE">MrSID</rastifor></rastinfo>
	</spdoinfo>
	<spref>
		<horizsys>
			<planar>
				<mapproj>
					<mapprojn>Albers Conical Equal Area</mapprojn>
					<albers>
						<stdparll>24.000000</stdparll>
						<stdparll>31.500000</stdparll>
						<longcm>-84.000000</longcm>
						<latprjo>24.000000</latprjo>
						<feast>400000.000000</feast>
						<fnorth>0.000000</fnorth>
					</albers>
				</mapproj>
				<planci>
					<plance>coordinate pair</plance>
					<coordrep>
						<absres>0.002048</absres>
						<ordres>0.002048</ordres>
					</coordrep>
					<plandu>meters</plandu>
				</planci>
			</planar>
			<geodetic>
				<horizdn>D_North_American_1983_HARN</horizdn>
				<ellips>Geodetic Reference System 80</ellips>
				<semiaxis>6378137.000000</semiaxis>
				<denflat>298.257222</denflat>
			</geodetic>
			<cordsysn><projcsn>Albers Conical Equal Area</projcsn></cordsysn></horizsys>
	</spref>
	<eainfo>
	</eainfo>
	<distinfo>
		<distrib>
			<cntinfo>
				<cntperp>
					<cntper>Operator</cntper>
					<cntorg>FLORIDA GEOGRAPHIC DATA LIBRARY</cntorg>
				</cntperp>
				<cntaddr>
					<addrtype>mailing address</addrtype>
					<address>431 Architecture PO Box 115706</address>
					<city>Gainesville</city>
					<state>Florida</state>
					<postal>32611-5706</postal>
					<country>United States</country></cntaddr>
				<cntvoice>(352) 3920997, Operator</cntvoice>
				<cntemail>Web site:
http://www.fgdl.org</cntemail>
				<hours>24 Hours / Day</hours>
				<cntinst>
Please visit the web site, http://www.fgdl.org, for all
questions or concerns.
</cntinst>
				<cntemail>Technical Support:
http://www.fgdl.org/fgdlfeed.html</cntemail><cntemail>For FGDL Software:
http://www.fgdl.org/software.html</cntemail><cntemail>FGDL Frequently Asked Questions:
http://www.fgdl.org/fgdlfaq.html</cntemail><cntemail>Mailing list for FGDL:
http://www.fgdl.org/fgdl-l.html</cntemail></cntinfo>
		</distrib>
		<distliab> THE FGDL DATA AS PROVIDED BY CONTRIBUTING ORGANIZATIONS AND ANY PROGRAMMING SOFTWARE CREATED BY THE UNIVERSITY OF FLORIDA GEOPLAN CENTER (COLLECTIVELY THE 'MATERIALS') ARE COPYRIGHTED BY THE UNIVERSITY OF FLORIDA GEOPLAN CENTER FOR THE FGDL CONTRIBUTING AGENCIES AND ORGANIZATIONS (THE 'DATA PROVIDERS').  DO NOT REPRODUCE, REDISTRIBUTE OR RESELL THE MATERIALS, OR PROVIDE THE MATERIALS FOR FREE TO CUSTOMERS OR CLIENTS, OR PLACE THE MATERIALS FOR DOWNLOAD ON A WEBSITE. ADDITIONALLY, WHEN USING FGDL DATA OR SOFTWARE IN PROJECTS, MAPS, ETC.; YOU AGREE TO ACKNOWLEDGE THE FGDL AS A DATA SOURCE. THE MATERIALS ARE PROVIDED AS IS.THE UNIVERSITY OF FLORIDA GEOPLAN CENTER MAKES NO REPRESENTATIONS OR WARRANTIES ABOUT THE QUALITY OR SUITABILITY OF THE MATERIALS, EITHER EXPRESSLY OR IMPLIED, INCLUDING BUT NOT LIMITED TO ANY IMPLIED WARRANTIES OF MERCHANTABILITY, FITNESS FOR A PARTICULAR PURPOSE, OR NON-INFRINGEMENT.THE UNIVERSITY OF FLORIDA GEOPLAN CENTER MAKES NO WARRANTIES, GUARANTIES OR REPRESENTATIONS AS TO THE TRUTH, ACCURACY OR COMPLETENESS OF THE DATA PROVIDED BY THE FGDL CONTRIBUTING ORGANIZATIONS. THE UNIVERSITY OF FLORIDA GEOPLAN CENTER SHALL NOT BE LIABLE FOR ANY DAMAGES SUFFERED AS A RESULT OF USING, MODIFYING, CONTRIBUTING OR DISTRIBUTING THE MATERIALS.</distliab>
		<resdesc>Downloadable Data or CD ROM.</resdesc><stdorder><digform><digtinfo><transize Sync="TRUE">107.476</transize><dssize Sync="TRUE">107.476</dssize></digtinfo></digform></stdorder></distinfo>
	<metainfo>
		<metd>19961017</metd>
		<metc>
			<cntinfo>
				<cntperp>
					<cntper>Operator</cntper>
				</cntperp>
				<cntaddr>
					<addrtype>Physical</addrtype>
					<address>61 Forsyth Street, SW</address>
					<city>Athens</city>
					<state>GA</state>
					<postal>30303-3104</postal>
				</cntaddr>
				<cntvoice>1-800-241-1754</cntvoice>
			</cntinfo>
		</metc>
		<metstdn>FGDC Content Standards for Digital Geospatial Metadata</metstdn>
		<metstdv>FGDC-STD-001-1998</metstdv>
		<langmeta Sync="TRUE">en</langmeta><mettc Sync="TRUE">local time</mettc><metextns><onlink Sync="TRUE">http://www.esri.com/metadata/esriprof80.html</onlink><metprof Sync="TRUE">ESRI Metadata Profile</metprof></metextns></metainfo>
	<Esri><ModDate>20021122</ModDate><ModTime>14003200</ModTime><SyncDate>20021121</SyncDate><SyncTime>10554700</SyncTime></Esri><mdDateSt Sync="TRUE">20021122</mdDateSt><dataIdInfo><envirDesc Sync="TRUE">Microsoft Windows 2000 Version 5.0 (Build 2195) Service Pack 2; ESRI ArcCatalog 8.2.0.700</envirDesc><dataLang><languageCode Sync="TRUE" value="en"></languageCode></dataLang><idCitation><resTitle Sync="TRUE">drg100.sid</resTitle><presForm><PresFormCd Sync="TRUE" value="005"></PresFormCd></presForm></idCitation><spatRpType><SpatRepTypCd Sync="TRUE" value="002"></SpatRepTypCd></spatRpType><geoBox esriExtentType="native"><westBL Sync="TRUE">14147</westBL><eastBL Sync="TRUE">795857</eastBL><northBL Sync="TRUE">783784</northBL><southBL Sync="TRUE">54744</southBL><exTypeCode Sync="TRUE">1</exTypeCode></geoBox></dataIdInfo><mdLang><languageCode Sync="TRUE" value="en"></languageCode></mdLang><mdStanName Sync="TRUE">ISO 19115 Geographic Information - Metadata</mdStanName><mdStanVer Sync="TRUE">DIS_ESRI1.0</mdStanVer><mdChar><CharSetCd Sync="TRUE" value="004"></CharSetCd></mdChar><mdHrLv><ScopeCd Sync="TRUE" value="005"></ScopeCd></mdHrLv><mdHrLvName Sync="TRUE">dataset</mdHrLvName><distInfo><distributor><distorTran><onLineSrc><orDesc Sync="TRUE">002</orDesc><linkage Sync="TRUE">file://\\atlas\qaqc\finaldata\v2002\state_cd1\drg100.sid</linkage><protocol Sync="TRUE">Local Area Network</protocol></onLineSrc><transSize Sync="TRUE">107.476</transSize></distorTran><distorFormat><formatName Sync="TRUE">Raster Dataset</formatName></distorFormat></distributor></distInfo><spatRepInfo><GridSpatRep><numDims Sync="TRUE">2</numDims><axDimProps><Dimen><dimName><DimNameTypCd Sync="TRUE" value="002"></DimNameTypCd></dimName><dimSize Sync="TRUE">78171</dimSize><dimResol Sync="TRUE">10</dimResol></Dimen><Dimen><dimName><DimNameTypCd Sync="TRUE" value="001"></DimNameTypCd></dimName><dimSize Sync="TRUE">72904</dimSize><dimResol Sync="TRUE">10</dimResol></Dimen></axDimProps><cellGeo><CellGeoCd Sync="TRUE" value="002"></CellGeoCd></cellGeo><tranParaAv Sync="TRUE">1</tranParaAv></GridSpatRep></spatRepInfo></metadata>
