<?xml version="1.0" encoding="ISO-8859-1"?>
<metadata>
	<idinfo>
		<citation>
			<citeinfo>
				<origin>EARTH RESOURCES OBSERVATION SYSTEMS DATA CENTER </origin>
				<pubdate>1991</pubdate>
				<title>MULTI-SPECTRAL SCANNER (MSS) SATELLITE IMAGERY - 1990's</title>
				<edition>20010000</edition>
				<geoform>Image</geoform>
				<onlink>http://edcwww.cr.usgs.gov/landdaac/pathfinder/pathpage.html</onlink>
				<ftname Sync="TRUE">mss9110.sid</ftname><othercit>Countywide</othercit></citeinfo>
		</citation>
		<descript>
			<abstract>
These datasets contain satellite imagery collected from the Landsat series
of satellites, using the Multi-Spectral Scanner (MSS) sensor. These MSS
images are made up of 60m pixels.
</abstract>
			<purpose>
Though MSS satellite imagery is of relatively poor spatial resolution by
today's standards, it is still a valuable tool for general landscape
identification and classification, as well as temporal studies of change
detection over time. The imagery may be used to view growth, urbanization
patterns and land usage over the 3 decade time span. It can also simply be
used as a background image on which to overlay other datasets.

For more information, consider the following resources:

North American Landscape Characterization (NALC) Project/Campaign Document at this web site:
http://eosims.cr.usgs.gov:5725/CAMPAIGN_DOCS/nalc_proj_camp.html#9

Moik, Johannes G., 1980. Digital Processing of Remotely Sensed Images. NASA
Scientific and Technical Information Branch.

Campbell, James B., 1987. Introduction to Remote Sensing. The Guilford
Press.

Manual of Remote Sensing, Second Edition, 1983. American Society of
Photogrammetry.
</purpose>
			<langdata Sync="TRUE">en</langdata></descript>
		<timeperd>
			<timeinfo>
				<sngdate>
					<caldate>1991</caldate>
				</sngdate>
			</timeinfo>
			<current>publication date</current>
		</timeperd>
		<status>
			<progress>Complete</progress>
			<update>As needed</update>
		</status>
		<spdom>
			<bounding>
				<westbc>-82.058048</westbc>
				<eastbc>-81.573071</eastbc>
				<northbc>30.190880</northbc>
				<southbc>29.718357</southbc>
			</bounding>
			<lboundng><leftbc Sync="TRUE">528589.177800</leftbc><rightbc Sync="TRUE">589909.177800</rightbc><bottombc Sync="TRUE">601729.761800</bottombc><topbc Sync="TRUE">661369.761800</topbc></lboundng></spdom>
		<keywords>
			<theme>
				<themekt>NONE</themekt>
				<themekey>Land use</themekey>
				<themekey>temporal studies</themekey>
				<themekey>imagery</themekey>
				<themekey>MSS sensor</themekey>
				<themekey>Planning</themekey>
			</theme>
			<place>
				<placekt>NONE</placekt>
				<placekey>Florida</placekey>
				<placekey>Southeast United States</placekey>
				<placekey>Southeast U.S</placekey>
			</place>
			<temporal>
				<tempkt>NONE</tempkt>
				<tempkey>1990s</tempkey>
			</temporal>
		</keywords>
		<accconst>NONE</accconst>
		<useconst>THE DATA INCLUDED IN THIS APPLICATION ARE BASED ON INTERPRETATION OF AVAILABLE INFORMATION AND SHOULD NOT BE CONSTRUED AS LEGALLY BINDING.
</useconst>
		<native>For more information, visit: http://edcdaac.usgs.gov/main.html
</native>
		<crossref>
			<citeinfo>
				<origin>EARTH RESOURCES OBSERVATION SYSTEMS DATA CENTER DISTRIBUTED ACTIVE ARCHIVE CENTER</origin>
				<pubdate>1991</pubdate>
				<title>Unavailable</title>
				<geoform>Image</geoform>
			</citeinfo>
		</crossref>
		<ptcontac><cntinfo><cntemail>Web site:
http://www.fgdl.org</cntemail><cntemail>Technical Support:
http://www.fgdl.org/fgdlfeed.html</cntemail><cntemail>For FGDL Software:
http://www.fgdl.org/software.html</cntemail><cntemail>FGDL Frequently Asked Questions:
http://www.fgdl.org/fgdlfaq.html</cntemail><cntemail>Mailing list for FGDL:
http://www.fgdl.org/fgdl-l.html</cntemail><cntaddr><addrtype>mailing address</addrtype><address>431 Architecture PO Box 115706</address><city>Gainesville</city><state>Florida</state><postal>32611-5706</postal><cntemail>For FGDL Software: http://www.fgdl.org/software.html</cntemail></cntaddr><cntorgp><cntorg>Florida Geographic Data Library (FGDL)</cntorg><cntemail>Web site: http://www.fgdl.org</cntemail></cntorgp></cntinfo></ptcontac><natvform Sync="TRUE">Raster Dataset</natvform></idinfo>
	<dataqual>
		<attracc>
			<attraccr>Pixel values comprise the cell value and were rendered as a false color infrared image.
</attraccr>
			<qattracc/></attracc>
		<logic>The MSS sensor captures image data in 4 distinct portions of the electromagnetic spectrum. Three of the 4 bands are represented here (4,2,1), rendering a false color infrared image. Band 4 is near infrared, bands 2 and 1 correspond to the red and green portions of the visible spectrum. There are 3 different MSS images available, one from 1991, 1991 and 1991, plus or minus one year. Instances where images are named mss70s, mss80s, or mss90s refer to the fact that multiple images were stitched together to form an image mosaic to cover the geographic extent of any given county.
</logic>
		<complete>Certain counties may only have 2 of the 3 dates available, due to lack of data or extreme cloud cover for Any given area.  Other images may have slivers of missing image data. These are areas where image data was unavailable for a given year, but enough was available to warrant inclusion.
</complete>
		<lineage>
			<srcinfo>
				<srccite>
					<citeinfo>
						<origin>EARTH RESOURCES OBSERVATION SYSTEMS DATA CENTER DISTRIBUTED ACTIVE ARCHIVE CENTER</origin>
						<pubdate>1991</pubdate>
						<title>MULTI-SPECTRAL SCANNER (MSS) SATELLITE IMAGERY - 1990's</title>
						<geoform>Image</geoform>
					</citeinfo>
				</srccite>
				<srcscale>N/A</srcscale>
				<typesrc>MAP</typesrc>
				<srctime>
					<timeinfo>
						<sngdate>
							<caldate>1991</caldate>
						</sngdate>
					</timeinfo>
					<srccurr>ground condition</srccurr>
				</srctime>
				<srccitea>EDC DAAC EROS</srccitea>
				<srccontr>Spatial and Attribute Information</srccontr>
				<srccurr>Publication date</srccurr></srcinfo>
			<procstep>
				<procdesc>
The process step describes, in general, the process used in the production of data sets.  The originating agencies created the original spatial coverage.  GeoPlan, during the QA/QC process included the following aspects:
(1) Reprojected data to FGDL Albers
(2) Set Precision to DOUBLE
(3) Set Tolerances to FGDL Standards.
</procdesc>
				<procdate>2000</procdate>
			</procstep>
			<procstep><procdesc Sync="TRUE">Metadata imported.</procdesc><date Sync="TRUE">20021202</date><time Sync="TRUE">14543100</time></procstep></lineage>
	</dataqual>
	<spdoinfo>
		<direct Sync="TRUE">Raster</direct>
		<rastinfo>
			<rasttype Sync="TRUE">Pixel</rasttype>
			<rowcount Sync="TRUE">994</rowcount>
			<colcount Sync="TRUE">1022</colcount>
			<vrtcount Sync="TRUE">1</vrtcount>
			<rastxsz Sync="TRUE">60.000000</rastxsz><rastysz Sync="TRUE">60.000000</rastysz><rastbpp Sync="TRUE">8</rastbpp><rastorig Sync="TRUE">Upper Left</rastorig><rastcmap Sync="TRUE">FALSE</rastcmap><rastcomp Sync="TRUE">Wavelet</rastcomp><rastband Sync="TRUE">3</rastband><rastdtyp Sync="TRUE">pixel codes</rastdtyp><rastplyr Sync="TRUE">TRUE</rastplyr><rastifor Sync="TRUE">MrSID</rastifor></rastinfo>
	</spdoinfo>
	<spref>
		<horizsys>
			<planar>
				<mapproj>
					<mapprojn>Albers Conical Equal Area</mapprojn>
					<albers>
						<stdparll>24.000000</stdparll>
						<stdparll>31.500000</stdparll>
						<longcm>-84.000000</longcm>
						<latprjo>24.000000</latprjo>
						<feast>400000.000000</feast>
						<fnorth>0.000000</fnorth>
					</albers>
				</mapproj>
				<planci>
					<plance>coordinate pair</plance>
					<coordrep>
						<absres>0.002048</absres>
						<ordres>0.002048</ordres>
					</coordrep>
					<plandu>meters</plandu>
				</planci>
			</planar>
			<geodetic>
				<horizdn>D_North_American_1983_HARN</horizdn>
				<ellips>Geodetic Reference System 80</ellips>
				<semiaxis>6378137.000000</semiaxis>
				<denflat>298.257222</denflat>
			</geodetic>
			<cordsysn><projcsn>Albers Conical Equal Area</projcsn></cordsysn></horizsys>
	</spref>
	<eainfo>
		<detailed Name="Band_1">
			<enttyp>
				<enttypl>mss90s10</enttypl>
				<enttypd>Image</enttypd>
				<enttypt Sync="TRUE">Table</enttypt><enttypc Sync="TRUE">256</enttypc></enttyp>
		</detailed>
	</eainfo>
	<distinfo>
		<distrib>
			<cntinfo>
				<cntperp>
					<cntorg>FLORIDA GEOGRAPHIC DATA LIBRARY</cntorg>
				</cntperp>
				<cntaddr>
					<addrtype>mailing address</addrtype>
					<address>431 Architecture PO Box 115706</address>
					<city>Gainesville</city>
					<state>Florida</state>
					<postal>32611-5706</postal>
					<country>United States</country></cntaddr>
				<cntvoice>(352) 3920997</cntvoice>
				<cntemail>Web site:
http://www.fgdl.org</cntemail>
				<cntemail>Technical Support:
http://www.fgdl.org/fgdlfeed.html</cntemail><cntemail>For FGDL Software:
http://www.fgdl.org/software.html</cntemail><cntemail>FGDL Frequently Asked Questions:
http://www.fgdl.org/fgdlfaq.html</cntemail><cntemail>Mailing list for FGDL:
http://www.fgdl.org/fgdl-l.html</cntemail></cntinfo>
		</distrib>
		<distliab> THE FGDL DATA AS PROVIDED BY CONTRIBUTING ORGANIZATIONS AND ANY PROGRAMMING SOFTWARE CREATED BY THE UNIVERSITY OF FLORIDA GEOPLAN CENTER (COLLECTIVELY THE 'MATERIALS') ARE COPYRIGHTED BY THE UNIVERSITY OF FLORIDA GEOPLAN CENTER FOR THE FGDL CONTRIBUTING AGENCIES AND ORGANIZATIONS (THE 'DATA PROVIDERS').  DO NOT REPRODUCE, REDISTRIBUTE OR RESELL THE MATERIALS, OR PROVIDE THE MATERIALS FOR FREE TO CUSTOMERS OR CLIENTS, OR PLACE THE MATERIALS FOR DOWNLOAD ON A WEBSITE. ADDITIONALLY, WHEN USING FGDL DATA OR SOFTWARE IN PROJECTS, MAPS, ETC.; YOU AGREE TO ACKNOWLEDGE THE FGDL AS A DATA SOURCE. THE MATERIALS ARE PROVIDED AS IS.THE UNIVERSITY OF FLORIDA GEOPLAN CENTER MAKES NO REPRESENTATIONS OR WARRANTIES ABOUT THE QUALITY OR SUITABILITY OF THE MATERIALS, EITHER EXPRESSLY OR IMPLIED, INCLUDING BUT NOT LIMITED TO ANY IMPLIED WARRANTIES OF MERCHANTABILITY, FITNESS FOR A PARTICULAR PURPOSE, OR NON-INFRINGEMENT.THE UNIVERSITY OF FLORIDA GEOPLAN CENTER MAKES NO WARRANTIES, GUARANTIES OR REPRESENTATIONS AS TO THE TRUTH, ACCURACY OR COMPLETENESS OF THE DATA PROVIDED BY THE FGDL CONTRIBUTING ORGANIZATIONS. THE UNIVERSITY OF FLORIDA GEOPLAN CENTER SHALL NOT BE LIABLE FOR ANY DAMAGES SUFFERED AS A RESULT OF USING, MODIFYING, CONTRIBUTING OR DISTRIBUTING THE MATERIALS.</distliab>
		<stdorder><digform><digtinfo><transize Sync="TRUE">0.420</transize><dssize Sync="TRUE">0.420</dssize></digtinfo></digform></stdorder></distinfo>
	<metainfo>
		<metd Sync="TRUE">20021209</metd>
		<metc>
			<cntinfo>
				<cntaddr>
					<addrtype>physical address</addrtype>
					<address>Mundt Federal Building</address>
					<city>Sioux Falls</city>
					<state>SD</state>
					<postal>57198</postal>
				</cntaddr>
				<cntvoice>(605) 594 6116</cntvoice>
				<cntorgp><cntorg>EROS DATA CENTER, DISTRIBUTED ACTIVE ARCHIVE CENTER</cntorg></cntorgp></cntinfo>
		</metc>
		<metstdn Sync="TRUE">FGDC Content Standards for Digital Geospatial Metadata</metstdn>
		<metstdv Sync="TRUE">FGDC-STD-001-1998</metstdv>
		<langmeta Sync="TRUE">en</langmeta><mettc Sync="TRUE">local time</mettc><metextns><onlink Sync="TRUE">http://www.esri.com/metadata/esriprof80.html</onlink><metprof Sync="TRUE">ESRI Metadata Profile</metprof></metextns></metainfo>
	<Esri><MetaID>{CB90482D-F687-4971-82A0-7FD95D312D9C}</MetaID><CreaDate>20021202</CreaDate><CreaTime>14543100</CreaTime><SyncOnce>FALSE</SyncOnce><SyncDate>20021202</SyncDate><SyncTime>14543600</SyncTime><ModDate>20021209</ModDate><ModTime>10585700</ModTime></Esri><dataIdInfo><dataLang><languageCode Sync="TRUE" value="en"></languageCode></dataLang><idCitation><resTitle Sync="TRUE">mss9110.sid</resTitle><presForm><PresFormCd Sync="TRUE" value="005"></PresFormCd></presForm></idCitation><spatRpType><SpatRepTypCd Sync="TRUE" value="002"></SpatRepTypCd></spatRpType><geoBox esriExtentType="native"><westBL Sync="TRUE">528589.1778</westBL><eastBL Sync="TRUE">589909.1778</eastBL><northBL Sync="TRUE">661369.7618</northBL><southBL Sync="TRUE">601729.7618</southBL><exTypeCode Sync="TRUE">1</exTypeCode></geoBox></dataIdInfo><mdLang><languageCode Sync="TRUE" value="en"></languageCode></mdLang><mdStanName Sync="TRUE">ISO 19115 Geographic Information - Metadata</mdStanName><mdStanVer Sync="TRUE">DIS_ESRI1.0</mdStanVer><mdChar><CharSetCd Sync="TRUE" value="004"></CharSetCd></mdChar><mdHrLv><ScopeCd Sync="TRUE" value="005"></ScopeCd></mdHrLv><mdHrLvName Sync="TRUE">dataset</mdHrLvName><distInfo><distributor><distorTran><onLineSrc><orDesc Sync="TRUE">002</orDesc><linkage Sync="TRUE"></linkage><protocol Sync="TRUE">Local Area Network</protocol></onLineSrc><transSize Sync="TRUE">0.420</transSize></distorTran><distorFormat><formatName Sync="TRUE">Raster Dataset</formatName></distorFormat></distributor></distInfo><spatRepInfo><GridSpatRep><numDims Sync="TRUE">2</numDims><axDimProps><Dimen><dimName><DimNameTypCd Sync="TRUE" value="002"></DimNameTypCd></dimName><dimSize Sync="TRUE">1022</dimSize><dimResol Sync="TRUE">60</dimResol></Dimen><Dimen><dimName><DimNameTypCd Sync="TRUE" value="001"></DimNameTypCd></dimName><dimSize Sync="TRUE">994</dimSize><dimResol Sync="TRUE">60</dimResol></Dimen></axDimProps><cellGeo><CellGeoCd Sync="TRUE" value="002"></CellGeoCd></cellGeo><tranParaAv Sync="TRUE">1</tranParaAv></GridSpatRep></spatRepInfo><mdDateSt Sync="TRUE">20021209</mdDateSt></metadata>
