<?xml version="1.0"?>
<!--<!DOCTYPE metadata SYSTEM "http://www.esri.com/metadata/esriprof80.dtd">-->
<metadata xml:lang="en"><Esri><MetaID>{85F301CF-B6A1-4F3E-88AD-83E0B1FC7F77}</MetaID><CreaDate>20021205</CreaDate><CreaTime>14210300</CreaTime><SyncOnce>FALSE</SyncOnce><SyncDate>20021205</SyncDate><SyncTime>14210400</SyncTime><ModDate>20021206</ModDate><ModTime>12003700</ModTime></Esri><idinfo><descript><langdata Sync="TRUE">en</langdata><abstract>These datasets contain satellite imagery collected from the Landsat series of satellites, using the Enhanced Thematic Mapper Plus (ETM+) sensor. These ETM+ images are made up of 30m pixels. 

</abstract><purpose>The mission of Landsat is to provide for repetitive acquisition of high resolution multispectral data of the earth's surface on a global basis to emphasize its primary area of interest, land resources.  TM images may be used for general landscape, identification and classification, as well as temporal studies of change detection over time. The imagery may be used to view growth, urbanization patterns and land usage. It can also simply be used as a background image on which to overlay other datasets. 

</purpose></descript><citation><citeinfo><origin>Land Processes Distributed Active Archive Center (LP DAAC)</origin><pubdate>1999</pubdate><title>ENHANCED THEMATIC MAPPER PLUS SATELLITE IMAGERY FALSE COLOR - 1999 </title><ftname Sync="TRUE">tm99fc01.img</ftname><geoform>raster image</geoform><onlink>http://edcdaac.usgs.gov</onlink></citeinfo></citation><timeperd><current>publication date</current><timeinfo><sngdate><caldate>1999</caldate></sngdate></timeinfo></timeperd><status><progress>Complete</progress><update>N/A</update></status><spdom><bounding><westbc>-82.663385</westbc><eastbc>-82.040266</eastbc><northbc>29.939313</northbc><southbc>29.422649</southbc></bounding><lboundng><leftbc Sync="TRUE">529465.000000</leftbc><rightbc Sync="TRUE">588955.000000</rightbc><bottombc Sync="TRUE">602475.000000</bottombc><topbc Sync="TRUE">660705.000000</topbc></lboundng></spdom><keywords><theme><themekey>Enhanced Thematic Mapper Plus</themekey><themekey>LANDSAT</themekey><themekey>Florida</themekey><themekt>None</themekt></theme></keywords><accconst>NONE</accconst><useconst>NONE</useconst><ptcontac><cntinfo><cntemail>Web site:
http://www.fgdl.org</cntemail><cntemail>Technical Support:
http://www.fgdl.org/fgdlfeed.html</cntemail><cntemail>For FGDL Software:
http://www.fgdl.org/software.html</cntemail><cntemail>FGDL Frequently Asked Questions:
http://www.fgdl.org/fgdlfaq.html</cntemail><cntemail>Mailing list for FGDL:
http://www.fgdl.org/fgdl-l.html</cntemail><cntaddr><addrtype>mailing address</addrtype><address>431 Architecture PO Box 115706</address><city>Gainesville</city><state>Florida</state><postal>32611-5706</postal><cntemail>For FGDL Software: http://www.fgdl.org/software.html</cntemail></cntaddr><cntorgp><cntorg>Florida Geographic Data Library (FGDL)</cntorg><cntemail>Web site: http://www.fgdl.org</cntemail></cntorgp></cntinfo></ptcontac><natvform Sync="TRUE">Raster Dataset</natvform></idinfo><dataIdInfo><dataLang><languageCode Sync="TRUE" value="en"></languageCode></dataLang><idCitation><resTitle Sync="TRUE">tm99fc01.img</resTitle><presForm><PresFormCd Sync="TRUE" value="005"></PresFormCd></presForm></idCitation><spatRpType><SpatRepTypCd Sync="TRUE" value="002"></SpatRepTypCd></spatRpType><geoBox esriExtentType="native"><westBL Sync="TRUE">529465</westBL><eastBL Sync="TRUE">588955</eastBL><northBL Sync="TRUE">660705</northBL><southBL Sync="TRUE">602475</southBL><exTypeCode Sync="TRUE">1</exTypeCode></geoBox><geoBox esriExtentType="decdegrees"><westBL Sync="TRUE">-82.663517</westBL><eastBL Sync="TRUE">-82.039927</eastBL><northBL Sync="TRUE">29.947021</northBL><southBL Sync="TRUE">29.415428</southBL><exTypeCode Sync="TRUE">1</exTypeCode></geoBox></dataIdInfo><metainfo><langmeta Sync="TRUE">en</langmeta><metstdn Sync="TRUE">FGDC Content Standards for Digital Geospatial Metadata</metstdn><metstdv Sync="TRUE">FGDC-STD-001-1998</metstdv><mettc Sync="TRUE">local time</mettc><metextns><onlink Sync="TRUE">http://www.esri.com/metadata/esriprof80.html</onlink><metprof Sync="TRUE">ESRI Metadata Profile</metprof></metextns><metc><cntinfo><cntorgp><cntorg>Land Processes Distributed Active Archive Center (LP DAAC)</cntorg></cntorgp><cntaddr><addrtype>mailing address</addrtype><city>Sioux Falls</city><state>SD</state><postal>57198</postal><address>Mundt Federal Building</address><country>USA</country></cntaddr><cntemail>edc@eos.nasa.gov</cntemail></cntinfo></metc><metd Sync="TRUE">20021206</metd></metainfo><mdLang><languageCode Sync="TRUE" value="en"></languageCode></mdLang><mdStanName Sync="TRUE">ISO 19115 Geographic Information - Metadata</mdStanName><mdStanVer Sync="TRUE">DIS_ESRI1.0</mdStanVer><mdChar><CharSetCd Sync="TRUE" value="004"></CharSetCd></mdChar><mdHrLv><ScopeCd Sync="TRUE" value="005"></ScopeCd></mdHrLv><mdHrLvName Sync="TRUE">dataset</mdHrLvName><distinfo><distliab> THE FGDL DATA AS PROVIDED BY CONTRIBUTING ORGANIZATIONS AND ANY PROGRAMMING SOFTWARE CREATED BY THE UNIVERSITY OF FLORIDA GEOPLAN CENTER (COLLECTIVELY THE 'MATERIALS') ARE COPYRIGHTED BY THE UNIVERSITY OF FLORIDA GEOPLAN CENTER FOR THE FGDL CONTRIBUTING AGENCIES AND ORGANIZATIONS (THE 'DATA PROVIDERS').  DO NOT REPRODUCE, REDISTRIBUTE OR RESELL THE MATERIALS, OR PROVIDE THE MATERIALS FOR FREE TO CUSTOMERS OR CLIENTS, OR PLACE THE MATERIALS FOR DOWNLOAD ON A WEBSITE. ADDITIONALLY, WHEN USING FGDL DATA OR SOFTWARE IN PROJECTS, MAPS, ETC.; YOU AGREE TO ACKNOWLEDGE THE FGDL AS A DATA SOURCE. THE MATERIALS ARE PROVIDED AS IS.THE UNIVERSITY OF FLORIDA GEOPLAN CENTER MAKES NO REPRESENTATIONS OR WARRANTIES ABOUT THE QUALITY OR SUITABILITY OF THE MATERIALS, EITHER EXPRESSLY OR IMPLIED, INCLUDING BUT NOT LIMITED TO ANY IMPLIED WARRANTIES OF MERCHANTABILITY, FITNESS FOR A PARTICULAR PURPOSE, OR NON-INFRINGEMENT.THE UNIVERSITY OF FLORIDA GEOPLAN CENTER MAKES NO WARRANTIES, GUARANTIES OR REPRESENTATIONS AS TO THE TRUTH, ACCURACY OR COMPLETENESS OF THE DATA PROVIDED BY THE FGDL CONTRIBUTING ORGANIZATIONS. THE UNIVERSITY OF FLORIDA GEOPLAN CENTER SHALL NOT BE LIABLE FOR ANY DAMAGES SUFFERED AS A RESULT OF USING, MODIFYING, CONTRIBUTING OR DISTRIBUTING THE MATERIALS.</distliab><resdesc>Downloadable Data or CD ROM.</resdesc><distrib><cntinfo><cntorgp><cntorg>Florida Geographic Data Library (FGDL)</cntorg></cntorgp><cntaddr><addrtype>mailing address</addrtype><address>431 Architecture PO Box 115706</address><city>Gainesville</city><state>Florida</state><postal>32611-5706</postal><country>United States</country></cntaddr><cntemail>Web site:
http://www.fgdl.org</cntemail><cntemail>Technical Support:
http://www.fgdl.org/fgdlfeed.html</cntemail><cntemail>For FGDL Software:
http://www.fgdl.org/software.html</cntemail><cntemail>FGDL Frequently Asked Questions:
http://www.fgdl.org/fgdlfaq.html</cntemail><cntemail>Mailing list for FGDL:
http://www.fgdl.org/fgdl-l.html</cntemail></cntinfo></distrib><stdorder><digform><digtinfo><transize Sync="TRUE">0.000</transize><dssize Sync="TRUE">0.000</dssize></digtinfo></digform></stdorder></distinfo><dataqual><attracc><attraccr>The Enhanced Thematic Mapper Plus (ETM+) replicates the capabilities of the highly successful Thematic Mapper instruments on Landsats 4 and 5*. The ETM+ also includes new features that make it a more versatile and efficient. The ETM+ instrument is a fixed "whisk-broom", eight-band, multispectral scanning radiometer capable of providing high-resolution imaging information of the Earth's surface. It detects spectrally-filtered radiation in VNIR, SWIR, LWIR and panchromatic bands from the sun-lit Earth in a 183 km wide swath when orbiting at an altitude of 705 km. An ETM+ scene will have an Instantaneous Field Of View (IFOV) of 30 square meters in bands 1-5 and 7 while band 6 will have an IFOV of 60 square meters on the ground and the new band 8 an IFOV of 15 square meters. TMfc is represented here by bands 4, 3, 2 rendering a false color infrared image. Band 4 is near infrared, bands 3 and 2 correspond to the red and green portions of the visible spectrum. TMtr is represented by bands 3, 2, 1 rendering a true color image. Bands 3, 2 and 1 correspond to the red, green and blue portions of the visible spectrum. </attraccr><qattracc><attracce>Scale is an important factor in data usage.  Certain scale datasets are not suitable for some project, analysis, or modelling purposes.  Please be sure you are using the best available data.

1:24000 scale datasets are recommended for projects that are at the county level.  1:24000 data should NOT be used for high accuracy base mapping such as property parcel boundaries.

1:100000 scale datasets are recommended for projects that are at the multi-county or regional level.  1:125000 scale datasets are recommended for projects that are at the regional or state level or larger.

Vector datasets with no defined scale or accuracy should be considered suspect.  Make sure you are familiar with your data before using it for projects or analysis.  Every effort has been made to supply the user with data documentation.  For additional information, see the References section and the Data Source Contact section of this documentation.  For more information regarding scale and accuracy, see our webpage at:  http://geoplan.ufl.edu/education.html.  These data are based on interpretation of available information and should not be construed as legally binding.</attracce></qattracc></attracc><logic>Relied on the integrity of the attribute information within the original data layer.</logic><complete>Relied on the integrity of the attribute information within the original data layer.</complete><lineage><srcinfo><typesrc>raster</typesrc><srccurr>Publication date</srccurr><srccontr>ETM+ 1999 imagery for Florida</srccontr><srccite><citeinfo><origin>Land Processes Distributed Active Archive Center (LP DAAC)</origin><pubdate>1999</pubdate><title>ENHANCED THEMATIC MAPPER PLUS SATELLITE IMAGERY FALSE COLOR - 1999 </title><onlink>http://edcdaac.usgs.gov</onlink></citeinfo></srccite><srcscale>30 meter x 30 meter</srcscale><srctime><timeinfo><sngdate><caldate>1999</caldate></sngdate></timeinfo><srccurr>publication date</srccurr></srctime><srccitea>LP DAAC</srccitea></srcinfo><procstep><procdate>2002</procdate><procdesc>TMfc and TMtr are 8bit versions of the original 24bit images. This was accomplished using the advanced RGB algorithm available in ERDAS Imagine 8.5. These images are from 1999. 

</procdesc></procstep></lineage></dataqual><spref><horizsys><planar><planci><plance>coordinate pair</plance><coordrep><absres>0.002048</absres><ordres>0.002048</ordres></coordrep><plandu>meters</plandu></planci><mapproj><mapprojn Sync="TRUE">Albers Conical Equal Area</mapprojn><albers><stdparll Sync="TRUE">24.000000</stdparll><stdparll Sync="TRUE">31.500000</stdparll><longcm Sync="TRUE">-84.000000</longcm><latprjo Sync="TRUE">24.000000</latprjo><feast Sync="TRUE">400000.000000</feast><fnorth Sync="TRUE">0.000000</fnorth></albers></mapproj></planar><cordsysn><projcsn>Albers Conical Equal Area</projcsn></cordsysn><geodetic><horizdn>D_North_American_1983_HARN</horizdn><ellips>Geodetic Reference System 80</ellips><semiaxis>6378137.000000</semiaxis><denflat>298.257222</denflat></geodetic></horizsys></spref><distInfo><distributor><distorTran><onLineSrc><orDesc Sync="TRUE">002</orDesc><linkage Sync="TRUE"></linkage><protocol Sync="TRUE">Local Area Network</protocol></onLineSrc><transSize Sync="TRUE">0.000</transSize></distorTran><distorFormat><formatName Sync="TRUE">Raster Dataset</formatName></distorFormat></distributor></distInfo><spdoinfo><direct Sync="TRUE">Raster</direct><rastinfo><rasttype Sync="TRUE">Pixel</rasttype><rowcount Sync="TRUE">1941</rowcount><colcount Sync="TRUE">1983</colcount><rastxsz Sync="TRUE">30.000000</rastxsz><rastysz Sync="TRUE">30.000000</rastysz><rastbpp Sync="TRUE">8</rastbpp><vrtcount Sync="TRUE">1</vrtcount><rastorig Sync="TRUE">Upper Left</rastorig><rastcmap Sync="TRUE">TRUE</rastcmap><rastcomp Sync="TRUE">Run-Length Encoding (ESRI)</rastcomp><rastband Sync="TRUE">1</rastband><rastdtyp Sync="TRUE">pixel codes</rastdtyp><rastplyr Sync="TRUE">FALSE</rastplyr><rastifor Sync="TRUE">ERDAS IMAGINE</rastifor></rastinfo></spdoinfo><refSysInfo><RefSystem><refSysID><identCode Sync="TRUE">Albers Conical Equal Area</identCode></refSysID></RefSystem></refSysInfo><spatRepInfo><GridSpatRep><numDims Sync="TRUE">2</numDims><axDimProps><Dimen><dimName><DimNameTypCd Sync="TRUE" value="002"></DimNameTypCd></dimName><dimSize Sync="TRUE">1983</dimSize><dimResol Sync="TRUE">30</dimResol></Dimen><Dimen><dimName><DimNameTypCd Sync="TRUE" value="001"></DimNameTypCd></dimName><dimSize Sync="TRUE">1941</dimSize><dimResol Sync="TRUE">30</dimResol></Dimen></axDimProps><cellGeo><CellGeoCd Sync="TRUE" value="002"></CellGeoCd></cellGeo><tranParaAv Sync="TRUE">1</tranParaAv></GridSpatRep></spatRepInfo><eainfo><detailed Name="Layer_1"><enttyp><enttypl>tm99fc01</enttypl><enttypt Sync="TRUE">Table</enttypt><enttypc Sync="TRUE">256</enttypc><enttypd>image</enttypd><enttypds>fgdl</enttypds></enttyp></detailed></eainfo><mdDateSt Sync="TRUE">20021206</mdDateSt></metadata>
